BEGIN:VCALENDAR
VERSION:2.0
PRODID:-//FiestaFun - ECPv6.15.11//NONSGML v1.0//EN
CALSCALE:GREGORIAN
METHOD:PUBLISH
X-WR-CALNAME:FiestaFun
X-ORIGINAL-URL:https://fiestafun.fr
X-WR-CALDESC:Évènements pour FiestaFun
REFRESH-INTERVAL;VALUE=DURATION:PT1H
X-Robots-Tag:noindex
X-PUBLISHED-TTL:PT1H
BEGIN:VTIMEZONE
TZID:Europe/Paris
BEGIN:DAYLIGHT
TZOFFSETFROM:+0100
TZOFFSETTO:+0200
TZNAME:CEST
DTSTART:20230326T010000
END:DAYLIGHT
BEGIN:STANDARD
TZOFFSETFROM:+0200
TZOFFSETTO:+0100
TZNAME:CET
DTSTART:20231029T010000
END:STANDARD
BEGIN:DAYLIGHT
TZOFFSETFROM:+0100
TZOFFSETTO:+0200
TZNAME:CEST
DTSTART:20240331T010000
END:DAYLIGHT
BEGIN:STANDARD
TZOFFSETFROM:+0200
TZOFFSETTO:+0100
TZNAME:CET
DTSTART:20241027T010000
END:STANDARD
BEGIN:DAYLIGHT
TZOFFSETFROM:+0100
TZOFFSETTO:+0200
TZNAME:CEST
DTSTART:20250330T010000
END:DAYLIGHT
BEGIN:STANDARD
TZOFFSETFROM:+0200
TZOFFSETTO:+0100
TZNAME:CET
DTSTART:20251026T010000
END:STANDARD
END:VTIMEZONE
BEGIN:VEVENT
DTSTART;TZID=Europe/Paris:20240420T100000
DTEND;TZID=Europe/Paris:20240505T183000
DTSTAMP:20260422T140841
CREATED:20240321T090038Z
LAST-MODIFIED:20240321T161046Z
UID:2396-1713607200-1714933800@fiestafun.fr
SUMMARY:Vacances scolaires de Printemps
DESCRIPTION:Lors des prochaines vacances scolaires de Printemps\, soit du samedi 20 avril au dimanche 5 mai 2023 le parc sera ouvert sept jour sur sept de 10h à 18h30 non stop.\nNous vous conseillons avec des enfants de moins de 3 ans de venir plutôt lorsque l’affluence est moindre au sein de l’établissement\, à savoir le matin de 10h à 13h ou après 17h.\n \nNous vous rappelons que les boissons et aliments extérieurs sont interdits au sein de l’établissement et que toute sortie avec l’enfant est définitive. \nLa restauration est possible sur place. \n 
URL:https://fiestafun.fr/evenement/vacances-scolaires-printemps/
END:VEVENT
END:VCALENDAR