BEGIN:VCALENDAR
VERSION:2.0
PRODID:-//FiestaFun - ECPv6.15.11//NONSGML v1.0//EN
CALSCALE:GREGORIAN
METHOD:PUBLISH
X-ORIGINAL-URL:https://fiestafun.fr
X-WR-CALDESC:Évènements pour FiestaFun
REFRESH-INTERVAL;VALUE=DURATION:PT1H
X-Robots-Tag:noindex
X-PUBLISHED-TTL:PT1H
BEGIN:VTIMEZONE
TZID:Europe/Paris
BEGIN:DAYLIGHT
TZOFFSETFROM:+0100
TZOFFSETTO:+0200
TZNAME:CEST
DTSTART:20240331T010000
END:DAYLIGHT
BEGIN:STANDARD
TZOFFSETFROM:+0200
TZOFFSETTO:+0100
TZNAME:CET
DTSTART:20241027T010000
END:STANDARD
BEGIN:DAYLIGHT
TZOFFSETFROM:+0100
TZOFFSETTO:+0200
TZNAME:CEST
DTSTART:20250330T010000
END:DAYLIGHT
BEGIN:STANDARD
TZOFFSETFROM:+0200
TZOFFSETTO:+0100
TZNAME:CET
DTSTART:20251026T010000
END:STANDARD
BEGIN:DAYLIGHT
TZOFFSETFROM:+0100
TZOFFSETTO:+0200
TZNAME:CEST
DTSTART:20260329T010000
END:DAYLIGHT
BEGIN:STANDARD
TZOFFSETFROM:+0200
TZOFFSETTO:+0100
TZNAME:CET
DTSTART:20261025T010000
END:STANDARD
END:VTIMEZONE
BEGIN:VEVENT
DTSTART;TZID=Europe/Paris:20250704T100000
DTEND;TZID=Europe/Paris:20250831T180000
DTSTAMP:20260421T184421
CREATED:20250704T080052Z
LAST-MODIFIED:20250704T132945Z
UID:2298-1751623200-1756663200@fiestafun.fr
SUMMARY:Grandes vacances scolaires d'été ouverture 7j/7 du lundi au vendredi de 10h à 18h et de 14h à 18h le week-end
DESCRIPTION:Ouverture du parc 7/7 pendant les grandes vacances scolaires de 10h à 18h du lundi au vendredi et de 14h à 18h le week-end. Chaussettes obligatoires pour l’accès aux structures de jeux. Boissons et aliments extérieurs interdits dans l’établissmeent.
URL:https://fiestafun.fr/evenement/grandes-vacances-scolaires-dete/
END:VEVENT
END:VCALENDAR