BEGIN:VCALENDAR
VERSION:2.0
PRODID:-//FiestaFun - ECPv6.15.11//NONSGML v1.0//EN
CALSCALE:GREGORIAN
METHOD:PUBLISH
X-WR-CALNAME:FiestaFun
X-ORIGINAL-URL:https://fiestafun.fr
X-WR-CALDESC:Évènements pour FiestaFun
REFRESH-INTERVAL;VALUE=DURATION:PT1H
X-Robots-Tag:noindex
X-PUBLISHED-TTL:PT1H
BEGIN:VTIMEZONE
TZID:Europe/Paris
BEGIN:DAYLIGHT
TZOFFSETFROM:+0100
TZOFFSETTO:+0200
TZNAME:CEST
DTSTART:20250330T010000
END:DAYLIGHT
BEGIN:STANDARD
TZOFFSETFROM:+0200
TZOFFSETTO:+0100
TZNAME:CET
DTSTART:20251026T010000
END:STANDARD
BEGIN:DAYLIGHT
TZOFFSETFROM:+0100
TZOFFSETTO:+0200
TZNAME:CEST
DTSTART:20260329T010000
END:DAYLIGHT
BEGIN:STANDARD
TZOFFSETFROM:+0200
TZOFFSETTO:+0100
TZNAME:CET
DTSTART:20261025T010000
END:STANDARD
BEGIN:DAYLIGHT
TZOFFSETFROM:+0100
TZOFFSETTO:+0200
TZNAME:CEST
DTSTART:20270328T010000
END:DAYLIGHT
BEGIN:STANDARD
TZOFFSETFROM:+0200
TZOFFSETTO:+0100
TZNAME:CET
DTSTART:20271031T010000
END:STANDARD
END:VTIMEZONE
BEGIN:VEVENT
DTSTART;TZID=Europe/Paris:20260411T100000
DTEND;TZID=Europe/Paris:20260426T183000
DTSTAMP:20260421T123133
CREATED:20260326T090019Z
LAST-MODIFIED:20260326T083159Z
UID:2329-1775901600-1777228200@fiestafun.fr
SUMMARY:Petites vacances scolaires : ouverture de 10h à 18h30 7j/7. Privilégier votre venue le matin avec vos tout petits. Accès aux structures de jeux 3-12 ans interdit l'après-midi aux adultes.
DESCRIPTION:Privilégier votre venue le matin avec vos tout petits. \nAccès aux structures de jeux 3-12 ans interdit l’après-midi aux adultes. \nPour rappel les boissons et aliments extérieurs sont interdits dans les locaux. \nLes chaussettes sont obligatoires pour les adultes et les enfants.
URL:https://fiestafun.fr/evenement/petites-vacances-scolaires/
END:VEVENT
END:VCALENDAR