BEGIN:VCALENDAR
VERSION:2.0
PRODID:-//FiestaFun - ECPv6.15.11//NONSGML v1.0//EN
CALSCALE:GREGORIAN
METHOD:PUBLISH
X-WR-CALNAME:FiestaFun
X-ORIGINAL-URL:https://fiestafun.fr
X-WR-CALDESC:Évènements pour FiestaFun
REFRESH-INTERVAL;VALUE=DURATION:PT1H
X-Robots-Tag:noindex
X-PUBLISHED-TTL:PT1H
BEGIN:VTIMEZONE
TZID:Europe/Paris
BEGIN:DAYLIGHT
TZOFFSETFROM:+0100
TZOFFSETTO:+0200
TZNAME:CEST
DTSTART:20250330T010000
END:DAYLIGHT
BEGIN:STANDARD
TZOFFSETFROM:+0200
TZOFFSETTO:+0100
TZNAME:CET
DTSTART:20251026T010000
END:STANDARD
BEGIN:DAYLIGHT
TZOFFSETFROM:+0100
TZOFFSETTO:+0200
TZNAME:CEST
DTSTART:20260329T010000
END:DAYLIGHT
BEGIN:STANDARD
TZOFFSETFROM:+0200
TZOFFSETTO:+0100
TZNAME:CET
DTSTART:20261025T010000
END:STANDARD
BEGIN:DAYLIGHT
TZOFFSETFROM:+0100
TZOFFSETTO:+0200
TZNAME:CEST
DTSTART:20270328T010000
END:DAYLIGHT
BEGIN:STANDARD
TZOFFSETFROM:+0200
TZOFFSETTO:+0100
TZNAME:CET
DTSTART:20271031T010000
END:STANDARD
END:VTIMEZONE
BEGIN:VEVENT
DTSTART;TZID=Europe/Paris:20260411T100000
DTEND;TZID=Europe/Paris:20260426T183000
DTSTAMP:20260416T182418
CREATED:20260326T090019Z
LAST-MODIFIED:20260326T083159Z
UID:2329-1775901600-1777228200@fiestafun.fr
SUMMARY:Petites vacances scolaires : ouverture de 10h à 18h30 7j/7. Privilégier votre venue le matin avec vos tout petits. Accès aux structures de jeux 3-12 ans interdit l'après-midi aux adultes.
DESCRIPTION:Privilégier votre venue le matin avec vos tout petits. \nAccès aux structures de jeux 3-12 ans interdit l’après-midi aux adultes. \nPour rappel les boissons et aliments extérieurs sont interdits dans les locaux. \nLes chaussettes sont obligatoires pour les adultes et les enfants.
URL:https://fiestafun.fr/evenement/petites-vacances-scolaires/
END:VEVENT
BEGIN:VEVENT
DTSTART;VALUE=DATE:20260501
DTEND;VALUE=DATE:20260502
DTSTAMP:20260416T182418
CREATED:20260410T080032Z
LAST-MODIFIED:20260326T084049Z
UID:2265-1777593600-1777679999@fiestafun.fr
SUMMARY:1er Mai 2026 : ouverture du parc de 10h à 18h
DESCRIPTION:Le parc sera ouvert le 1er mai 2025 de 10h à 18h. \nNous vous rappelons que les boissons et aliments extérieurs sont interdits dans l’établissement et que toute sortie avec votre enfant est définitive. Les chaussettes sont obligatoires pour les adultes et les enfants. \nRestauration possible sur place.
URL:https://fiestafun.fr/evenement/1er-mai-ouverture-du-parc-de-10h-a-18h30/
END:VEVENT
BEGIN:VEVENT
DTSTART;VALUE=DATE:20260508
DTEND;VALUE=DATE:20260509
DTSTAMP:20260416T182418
CREATED:20260408T080015Z
LAST-MODIFIED:20260326T084155Z
UID:2268-1778198400-1778284799@fiestafun.fr
SUMMARY:Vendredi 8 Mai 2026 : ouverture du parc de 10h à 18h
DESCRIPTION:Le parc sera ouvert le vendredi 8 mai 2025 de 10h à 18h. \nNous vous rappelons que les boissons et aliments extérieurs sont interdits dans l’établissement et que toute sortie avec votre enfant est définitive. Les chaussettes sont obligatoires pour les adultes et les enfants. \nRestauration possible sur place.
URL:https://fiestafun.fr/evenement/8-mai-ouverture-du-parc-de-10h-a-18h30/
END:VEVENT
BEGIN:VEVENT
DTSTART;TZID=Europe/Paris:20260513T100000
DTEND;TZID=Europe/Paris:20260517T183000
DTSTAMP:20260416T182418
CREATED:20260410T080046Z
LAST-MODIFIED:20260326T084324Z
UID:2272-1778666400-1779042600@fiestafun.fr
SUMMARY:Pont de l'ascension - Mercredi 13 mai au dimanche 17 ouverture non stop 10h 18h30
DESCRIPTION:Le parc sera ouvert du mercredi 13 mai au dimanche 17 de 10h à 18h30. \nNous vous rappelons que les boissons et aliments extérieurs sont interdits dans l’établissement et que toute sortie avec votre enfant est définitive. \nRestauration possible sur place.
URL:https://fiestafun.fr/evenement/pont-de-lascension/
END:VEVENT
BEGIN:VEVENT
DTSTART;TZID=Europe/Paris:20260523T100000
DTEND;TZID=Europe/Paris:20260525T183000
DTSTAMP:20260416T182418
CREATED:20260326T090058Z
LAST-MODIFIED:20260326T083935Z
UID:2319-1779530400-1779733800@fiestafun.fr
SUMMARY:Week-end de la Pentecôte ouvert du 23 au 25 de 10h à 18h30 non stop
DESCRIPTION:Le week-end de la Pentecôte le parc sera ouvert du samedi 23 au lundi 25 mai inclus de 10h à 18h30 non stop \nBoissons et aliments extérieurs interdits dans les locaux \nRestauration possible sur place \nChaussettes obligatoires pour les adultes et les enfants afin d’accéder à l’établissement
URL:https://fiestafun.fr/evenement/fete-des-grands-peres/
END:VEVENT
END:VCALENDAR