BEGIN:VCALENDAR
VERSION:2.0
PRODID:-//FiestaFun - ECPv6.15.11//NONSGML v1.0//EN
CALSCALE:GREGORIAN
METHOD:PUBLISH
X-WR-CALNAME:FiestaFun
X-ORIGINAL-URL:https://fiestafun.fr
X-WR-CALDESC:Évènements pour FiestaFun
REFRESH-INTERVAL;VALUE=DURATION:PT1H
X-Robots-Tag:noindex
X-PUBLISHED-TTL:PT1H
BEGIN:VTIMEZONE
TZID:Europe/Paris
BEGIN:DAYLIGHT
TZOFFSETFROM:+0100
TZOFFSETTO:+0200
TZNAME:CEST
DTSTART:20210328T010000
END:DAYLIGHT
BEGIN:STANDARD
TZOFFSETFROM:+0200
TZOFFSETTO:+0100
TZNAME:CET
DTSTART:20211031T010000
END:STANDARD
BEGIN:DAYLIGHT
TZOFFSETFROM:+0100
TZOFFSETTO:+0200
TZNAME:CEST
DTSTART:20220327T010000
END:DAYLIGHT
BEGIN:STANDARD
TZOFFSETFROM:+0200
TZOFFSETTO:+0100
TZNAME:CET
DTSTART:20221030T010000
END:STANDARD
BEGIN:DAYLIGHT
TZOFFSETFROM:+0100
TZOFFSETTO:+0200
TZNAME:CEST
DTSTART:20230326T010000
END:DAYLIGHT
BEGIN:STANDARD
TZOFFSETFROM:+0200
TZOFFSETTO:+0100
TZNAME:CET
DTSTART:20231029T010000
END:STANDARD
END:VTIMEZONE
BEGIN:VEVENT
DTSTART;TZID=Europe/Paris:20220103T080000
DTEND;TZID=Europe/Paris:20220110T170000
DTSTAMP:20260424T022749
CREATED:20220103T160132Z
LAST-MODIFIED:20220103T161032Z
UID:2181-1641196800-1641834000@fiestafun.fr
SUMMARY:Dimanche 9 janvier\, viens fêter l'épiphanie chez Fiesta Fun !
DESCRIPTION:Au programme de 10H à 18H30 : \n→ une entrée achetée = une part de galette offerte \n→ concours de couronnes pour les enfants\, le prix du vainqueur est une galette à partager en famille \net par ailleurs si tu gagnes la fève\, un tour de moto est offert !
URL:https://fiestafun.fr/evenement/dimanche-9-janvier-viens-avec-nous-feter-lepiphanie/
ATTACH;FMTTYPE=application/pdf:https://fiestafun.fr/wp-content/uploads/2022/01/galette-rois-on-wooden-table-traditional-epiphany-cake-in-france-1.pdf
END:VEVENT
END:VCALENDAR