BEGIN:VCALENDAR
VERSION:2.0
PRODID:-//FiestaFun - ECPv6.15.11//NONSGML v1.0//EN
CALSCALE:GREGORIAN
METHOD:PUBLISH
X-WR-CALNAME:FiestaFun
X-ORIGINAL-URL:https://fiestafun.fr
X-WR-CALDESC:Évènements pour FiestaFun
REFRESH-INTERVAL;VALUE=DURATION:PT1H
X-Robots-Tag:noindex
X-PUBLISHED-TTL:PT1H
BEGIN:VTIMEZONE
TZID:Europe/Paris
BEGIN:DAYLIGHT
TZOFFSETFROM:+0100
TZOFFSETTO:+0200
TZNAME:CEST
DTSTART:20240331T010000
END:DAYLIGHT
BEGIN:STANDARD
TZOFFSETFROM:+0200
TZOFFSETTO:+0100
TZNAME:CET
DTSTART:20241027T010000
END:STANDARD
BEGIN:DAYLIGHT
TZOFFSETFROM:+0100
TZOFFSETTO:+0200
TZNAME:CEST
DTSTART:20250330T010000
END:DAYLIGHT
BEGIN:STANDARD
TZOFFSETFROM:+0200
TZOFFSETTO:+0100
TZNAME:CET
DTSTART:20251026T010000
END:STANDARD
BEGIN:DAYLIGHT
TZOFFSETFROM:+0100
TZOFFSETTO:+0200
TZNAME:CEST
DTSTART:20260329T010000
END:DAYLIGHT
BEGIN:STANDARD
TZOFFSETFROM:+0200
TZOFFSETTO:+0100
TZNAME:CET
DTSTART:20261025T010000
END:STANDARD
END:VTIMEZONE
BEGIN:VEVENT
DTSTART;TZID=Europe/Paris:20251031T183000
DTEND;TZID=Europe/Paris:20251031T230000
DTSTAMP:20260421T125836
CREATED:20250930T150059Z
LAST-MODIFIED:20251015T135546Z
UID:2521-1761935400-1761951600@fiestafun.fr
SUMMARY:Soirée Halloween jusqu'à 23h : pour réserver cliquez sur l'onglet billetterie
DESCRIPTION:Soirée Halloween chez Fiesta Fun Amiens Vendredi 31 octobre 2025 de 18h30 à 23h \nAu programme : DJ\, Pot d’accueil\, buffet de bonbons\, divers jeux\, concours enfants et adultes\, présence de mascottes et d’Amiens Family Sports\, atelier maquillage \nDéguisement conseillé pour frissonner de trouille !!! \nJe réserve en ligne
URL:https://fiestafun.fr/evenement/soiree-halloween-jusqua-23h/
END:VEVENT
END:VCALENDAR